BEGIN:VCALENDAR
VERSION:2.0
PRODID:-//Communication Publique Méditerranée - ECPv4.9.9//NONSGML v1.0//EN
CALSCALE:GREGORIAN
METHOD:PUBLISH
X-WR-CALNAME:Communication Publique Méditerranée
X-ORIGINAL-URL:https://www.compubliquemed.fr
X-WR-CALDESC:Évènements pour Communication Publique Méditerranée
BEGIN:VTIMEZONE
TZID:Europe/Paris
BEGIN:DAYLIGHT
TZOFFSETFROM:+0100
TZOFFSETTO:+0200
TZNAME:CEST
DTSTART:20230326T010000
END:DAYLIGHT
BEGIN:STANDARD
TZOFFSETFROM:+0200
TZOFFSETTO:+0100
TZNAME:CET
DTSTART:20231029T010000
END:STANDARD
END:VTIMEZONE
BEGIN:VEVENT
DTSTART;TZID=Europe/Paris:20231024T183000
DTEND;TZID=Europe/Paris:20231024T210000
DTSTAMP:20260420T083524
CREATED:20231006T163741Z
LAST-MODIFIED:20231006T182638Z
UID:15593-1698172200-1698181200@www.compubliquemed.fr
SUMMARY:Table ronde : Les appels d’offres en communication - Améliorons nos pratiques pour une commande publique efficiente et attractive
DESCRIPTION:Mardi 24 octobre\, à 18 h 30 à Montpellier \nCPM\, le Club de la Com de Toulouse et l’UCC Grand Sud vous invitent à un événement réservé aux acheteurs publics\, directions de la communication et services achats/marchés des organisations publiques\nautour des « Lignes de conduite pour des consultations responsables et attractives ». \nCes préconisations sont issues d’un travail collaboratif des principales structures concernées par les consultations publiques en France (ministère de la Culture et de l’Économie\, Direction des affaires juridiques\, Association des Maires de France\, les membres de la filière communication ainsi que de nombreuses autres organisations professionnelles) lors d’une médiation initiée fin 2021 et menée sous l’égide du Médiateur des entreprises.   \nLes intervenants\, spécialistes du sujet (parties prenantes à la médiation\, acheteur et avocats)\, seront présents pour échanger avec vous et répondre à vos questions. Évolutions en cours\, attentes des candidats\, bonnes pratiques… Ils vous donneront les clés pour que vos appels d’offres soient plus responsables\, attractifs et efficaces ! \nInscrivez-vous sans plus attendre ! \nInscription : https://vu.fr/hUvL \nLa conférence sera suivie d’un cocktail \nAccès : Université Paul Valery Montpellier 3 Site Saint Charles – rue du Professeur Henri-Serre – 34080 Montpellier \n
URL:https://www.compubliquemed.fr/evenement/table-ronde-les-appels-doffres-en-communication-ameliorons-nos-pratiques-pour-une-commande-publique-efficiente-et-attractive/
LOCATION:Université de Montpellier Paul-Valéry  – Site Saint Charles\, rue du Professeur Henri-Serre\, Montpellier\, 34000\, France
ATTACH;FMTTYPE=image/jpeg:https://www.compubliquemed.fr/wp-content/uploads/2023/10/Confenrece.jpg
ORGANIZER;CN="CPM":MAILTO:contact@compubliquemed.fr
END:VEVENT
END:VCALENDAR